BEGIN:VCALENDAR
VERSION:2.0
PRODID:-//The Village Church Denton - ECPv6.15.20//NONSGML v1.0//EN
CALSCALE:GREGORIAN
METHOD:PUBLISH
X-ORIGINAL-URL:https://thevillagedenton.church
X-WR-CALDESC:Events for The Village Church Denton
REFRESH-INTERVAL;VALUE=DURATION:PT1H
X-Robots-Tag:noindex
X-PUBLISHED-TTL:PT1H
BEGIN:VTIMEZONE
TZID:America/Chicago
BEGIN:DAYLIGHT
TZOFFSETFROM:-0600
TZOFFSETTO:-0500
TZNAME:CDT
DTSTART:20160313T080000
END:DAYLIGHT
BEGIN:STANDARD
TZOFFSETFROM:-0500
TZOFFSETTO:-0600
TZNAME:CST
DTSTART:20161106T070000
END:STANDARD
BEGIN:DAYLIGHT
TZOFFSETFROM:-0600
TZOFFSETTO:-0500
TZNAME:CDT
DTSTART:20170312T080000
END:DAYLIGHT
BEGIN:STANDARD
TZOFFSETFROM:-0500
TZOFFSETTO:-0600
TZNAME:CST
DTSTART:20171105T070000
END:STANDARD
BEGIN:DAYLIGHT
TZOFFSETFROM:-0600
TZOFFSETTO:-0500
TZNAME:CDT
DTSTART:20180311T080000
END:DAYLIGHT
BEGIN:STANDARD
TZOFFSETFROM:-0500
TZOFFSETTO:-0600
TZNAME:CST
DTSTART:20181104T070000
END:STANDARD
BEGIN:DAYLIGHT
TZOFFSETFROM:-0600
TZOFFSETTO:-0500
TZNAME:CDT
DTSTART:20190310T080000
END:DAYLIGHT
BEGIN:STANDARD
TZOFFSETFROM:-0500
TZOFFSETTO:-0600
TZNAME:CST
DTSTART:20191103T070000
END:STANDARD
END:VTIMEZONE
BEGIN:VEVENT
DTSTART;TZID=America/Chicago:20180121T130000
DTEND;TZID=America/Chicago:20180121T140000
DTSTAMP:20260423T101143
CREATED:20180112T230615Z
LAST-MODIFIED:20180112T230615Z
UID:10045129-1516539600-1516543200@thevillagedenton.church
SUMMARY:College Lunch
DESCRIPTION:Join us for a FREE meal and connect with other college students as you learn about our plans for ministering to college students for the Spring 2018 semester.
URL:https://thevillagedenton.church/event/college-lunch/
LOCATION:Room 250\, 1106 W Oak Street\, Denton\, TX\, 76201\, United States
CATEGORIES:College
ORGANIZER;CN="Roy Onyebetor":MAILTO:ronyebetor@thevillagedenton.church
GEO:33.2160384;-97.1439207
X-APPLE-STRUCTURED-LOCATION;VALUE=URI;X-ADDRESS=Room 250 1106 W Oak Street Denton TX 76201 United States;X-APPLE-RADIUS=500;X-TITLE=1106 W Oak Street:geo:-97.1439207,33.2160384
END:VEVENT
BEGIN:VEVENT
DTSTART;VALUE=DATE:20170908
DTEND;VALUE=DATE:20170910
DTSTAMP:20260423T101143
CREATED:20170906T181729Z
LAST-MODIFIED:20170913T202116Z
UID:10044998-1504828800-1505001599@thevillagedenton.church
SUMMARY:A Vision for Family Equipping
DESCRIPTION:Parents\, please join us as we share our vision and plan for encouraging and equipping you as you raise and disciple your children. \n\nThe hope for believing parents is to see their children come to genuine\, saving faith in Jesus and walk faithfully through life with a growing love for God and their neighbors. The hope for the larger church family regarding the next generation is the same. Together\, yet with distinct roles and degrees of responsibility\, we labor to love\, teach\, shepherd and lead the next generation toward faithfulness in Christ. \nAs a church\, we’ve started to recognize that the call to make disciples of the next generation\, in many ways\, needs to be primarily focused on equipping\, encouraging and supporting parents as they seek to faithfully disciple their children. Certainly teaching and building relationships with children and students through age specific ministries like Little Village\, Kids Village and Student Ministry is a key part of our collective faithfulness. But there is an increasing urgency around intentional and strategic equipping of parents and primary disciplers. \nOver the past year\, the elders\, Next Gen staff and a team of parents have been prayerfully considering how our church can more faithfully come alongside parents. We are excited to share a new aspect of our church’s ministry called Family Equipping. \nWe’re inviting all parents to join us for either dinner on Friday\, September 8th or breakfast on Saturday\, September 9th as we share our hope for how the existing rhythms of our church life as well as new classes\, forums and connecting opportunities might equip you in raising and discipling your child(ren). The content will be the same during both times\, so you only need to come to one of them. Please register by September 4th using the link below. \nIn order to enable as many parents as possible to attend\, we will provide Kid Keepers for children birth-5th grade. Understandably\, our building can only hold a certain number of preschool age children safely at one time\, so if you have another way for your children to be cared for\, we would encourage you to explore that option first. Otherwise\, please do not hesitate to register for Kid Keepers using the link below. We will not be feeding children a full meal during either meeting time but will provide a small snack. \nRegistration is now closed. Please contact Alyssa for more information. \nIf you have questions\, please don’t hesitate to reach out. \nEmail Alyssa\, Anne\,  Clint or Tate
URL:https://thevillagedenton.church/event/a-vision-for-family-equipping/
LOCATION:Room 250\, 1106 W Oak Street\, Denton\, TX\, 76201\, United States
CATEGORIES:Family Equipping
GEO:33.2160384;-97.1439207
X-APPLE-STRUCTURED-LOCATION;VALUE=URI;X-ADDRESS=Room 250 1106 W Oak Street Denton TX 76201 United States;X-APPLE-RADIUS=500;X-TITLE=1106 W Oak Street:geo:-97.1439207,33.2160384
END:VEVENT
END:VCALENDAR